BEGIN:VCALENDAR
VERSION:2.0
PRODID:-//Arlington Amplified - ECPv6.15.20//NONSGML v1.0//EN
CALSCALE:GREGORIAN
METHOD:PUBLISH
X-WR-CALNAME:Arlington Amplified
X-ORIGINAL-URL:https://arlingtonamplified.org
X-WR-CALDESC:Events for Arlington Amplified
REFRESH-INTERVAL;VALUE=DURATION:PT1H
X-Robots-Tag:noindex
X-PUBLISHED-TTL:PT1H
BEGIN:VTIMEZONE
TZID:UTC
BEGIN:STANDARD
TZOFFSETFROM:+0000
TZOFFSETTO:+0000
TZNAME:UTC
DTSTART:20250101T000000
END:STANDARD
END:VTIMEZONE
BEGIN:VEVENT
DTSTART;TZID=UTC:20260515T190000
DTEND;TZID=UTC:20260515T210000
DTSTAMP:20260420T144538
CREATED:20260404T212808Z
LAST-MODIFIED:20260407T145426Z
UID:5295-1778871600-1778878800@arlingtonamplified.org
SUMMARY:F6 Art Lounge: Jacob Furr
DESCRIPTION:Enjoy some West Coast folk with a dusty expanse of West Texas! Named Best Folk Artist several times!
URL:https://arlingtonamplified.org/event/f6-art-lounge-jacob-furr/
LOCATION:TX
ATTACH;FMTTYPE=image/png:https://arlingtonamplified.org/wp-content/uploads/2026/04/Jacob-Furr.png
END:VEVENT
BEGIN:VEVENT
DTSTART;TZID=UTC:20260515T193000
DTEND;TZID=UTC:20260515T193000
DTSTAMP:20260420T144538
CREATED:20260316T155448Z
LAST-MODIFIED:20260316T155448Z
UID:5061-1778873400-1778873400@arlingtonamplified.org
SUMMARY:Levitt Pavilion Arlington: The Suffers ft. Chris J. Norwood & The Knockdown Dragout
DESCRIPTION:7:10 PM – Levitt Youth Spotlight presented by Texas Trust Credit Union \n7:30 PM – Chris J. Norwood & The Knockdown Dragout \n8:30 PM – The Suffers  \nFind more info here!
URL:https://arlingtonamplified.org/event/levitt-pavilion-arlington-the-suffers-ft-chris-j-norwood-the-knockdown-dragout/
LOCATION:Levitt Pavilion\, 100 W. Abram St.\, Arlington\, TX\, 76010\, United States
ATTACH;FMTTYPE=image/png:https://arlingtonamplified.org/wp-content/uploads/2026/03/image-3.png
END:VEVENT
BEGIN:VEVENT
DTSTART;TZID=UTC:20260515T193000
DTEND;TZID=UTC:20260515T193000
DTSTAMP:20260420T144538
CREATED:20260407T152112Z
LAST-MODIFIED:20260407T152112Z
UID:5355-1778873400-1778873400@arlingtonamplified.org
SUMMARY:Arlington Music Hall: Gary Puckett & The Union Gap
DESCRIPTION:Enjoy a night of timeless hits and unforgettable music! Find more info and tickets here!
URL:https://arlingtonamplified.org/event/arlington-music-hall-gary-puckett-the-union-gap/
LOCATION:Arlington Music Hall\, 224 N Center St\, Arlington\, TX\, 76011
ATTACH;FMTTYPE=image/jpeg:https://arlingtonamplified.org/wp-content/uploads/2026/04/image-1.jpeg
END:VEVENT
BEGIN:VEVENT
DTSTART;TZID=UTC:20260516T120000
DTEND;TZID=UTC:20260516T170000
DTSTAMP:20260420T144538
CREATED:20260414T191600Z
LAST-MODIFIED:20260414T191600Z
UID:5485-1778932800-1778950800@arlingtonamplified.org
SUMMARY:Division Brewing: Rock of Under-Ages
DESCRIPTION:Rock and roll by musicians 18 and under! Stop by and enjoy some Rock n’ Roll!
URL:https://arlingtonamplified.org/event/division-brewing-rock-of-under-ages/
LOCATION:Division Brewing\, 506 E Main St.\, Arlington\, Texas
ATTACH;FMTTYPE=image/png:https://arlingtonamplified.org/wp-content/uploads/2026/04/Screenshot-2026-04-14-at-2.10.42-PM.png
END:VEVENT
BEGIN:VEVENT
DTSTART;TZID=UTC:20260516T180000
DTEND;TZID=UTC:20260516T180000
DTSTAMP:20260420T144538
CREATED:20260416T173802Z
LAST-MODIFIED:20260416T173802Z
UID:5511-1778954400-1778954400@arlingtonamplified.org
SUMMARY:Levitt Pavilion: Salsa Night – Elias y Su Orquesta w/ Quimikoz
DESCRIPTION:SALSA NIGHT AT THE LEVITT \n6:00 PM – Levitt Youth Spotlight presented by Texas Trust Credit Union \n6:15 PM – Salsa at the Gardens \n7:15 PM – Quimikoz \n8:30 PM – Elias y Su Orquesta \nFind more info here!
URL:https://arlingtonamplified.org/event/levitt-pavilion-salsa-night-elias-y-su-orquesta-w-quimikoz/
LOCATION:Levitt Pavilion\, 100 W. Abram St.\, Arlington\, TX\, 76010\, United States
ATTACH;FMTTYPE=image/png:https://arlingtonamplified.org/wp-content/uploads/2026/04/image-26.png
END:VEVENT
BEGIN:VEVENT
DTSTART;TZID=UTC:20260516T200000
DTEND;TZID=UTC:20260516T200000
DTSTAMP:20260420T144538
CREATED:20260310T161225Z
LAST-MODIFIED:20260310T161225Z
UID:4950-1778961600-1778961600@arlingtonamplified.org
SUMMARY:Globe Life Field: Eagles
DESCRIPTION:The Eagles are soaring to Globe Life Field this Spring! Find more general info and tickets here!
URL:https://arlingtonamplified.org/event/globe-life-field-eagles/
LOCATION:Globe Life Field\, 734 Stadium Dr\, Arlington\, TX\, 76011\, United States
ATTACH;FMTTYPE=image/png:https://arlingtonamplified.org/wp-content/uploads/2026/03/Screenshot-2026-03-10-at-11.12.03-AM.png
END:VEVENT
BEGIN:VEVENT
DTSTART;TZID=UTC:20260516T200000
DTEND;TZID=UTC:20260516T200000
DTSTAMP:20260420T144538
CREATED:20260407T152258Z
LAST-MODIFIED:20260407T152258Z
UID:5357-1778961600-1778961600@arlingtonamplified.org
SUMMARY:Arlington Music Hall: 1999 The Legacy of Prince
DESCRIPTION:Get ready to party like it’s 1999 when 1999: The Legacy of Prince takes over Arlington! Find more info and tickets here!
URL:https://arlingtonamplified.org/event/arlington-music-hall-1999-the-legacy-of-prince/
LOCATION:Arlington Music Hall\, 224 N Center St\, Arlington\, TX\, 76011
ATTACH;FMTTYPE=image/png:https://arlingtonamplified.org/wp-content/uploads/2026/04/image-17.png
END:VEVENT
BEGIN:VEVENT
DTSTART;TZID=UTC:20260522T180000
DTEND;TZID=UTC:20260522T210000
DTSTAMP:20260420T144538
CREATED:20260414T191322Z
LAST-MODIFIED:20260414T191322Z
UID:5482-1779472800-1779483600@arlingtonamplified.org
SUMMARY:Growl: 90's Rock
DESCRIPTION:Brought to you by Arlington School of Rock! $5 cover at the door!
URL:https://arlingtonamplified.org/event/growl-90s-rock/
LOCATION:Growl Records\, 509 E Abram St\, Arlington\, TX\, 76010\, United States
ATTACH;FMTTYPE=image/png:https://arlingtonamplified.org/wp-content/uploads/2026/04/Screenshot-2026-04-14-at-2.09.41-PM.png
END:VEVENT
BEGIN:VEVENT
DTSTART;TZID=UTC:20260522T190000
DTEND;TZID=UTC:20260522T190000
DTSTAMP:20260420T144538
CREATED:20260407T152439Z
LAST-MODIFIED:20260407T152439Z
UID:5360-1779476400-1779476400@arlingtonamplified.org
SUMMARY:Arlington Music Hall: Soul of Motown
DESCRIPTION:Soul of Motown brings iconic hits to life with a high-energy tribute to The Temptations\, Marvin Gaye\, and more. Find more info and tickets here!
URL:https://arlingtonamplified.org/event/arlington-music-hall-soul-of-motown/
LOCATION:Arlington Music Hall\, 224 N Center St\, Arlington\, TX\, 76011
ATTACH;FMTTYPE=image/png:https://arlingtonamplified.org/wp-content/uploads/2026/04/image-18.png
END:VEVENT
BEGIN:VEVENT
DTSTART;TZID=UTC:20260522T193000
DTEND;TZID=UTC:20260522T193000
DTSTAMP:20260420T144538
CREATED:20260316T155650Z
LAST-MODIFIED:20260316T155650Z
UID:5064-1779478200-1779478200@arlingtonamplified.org
SUMMARY:Levitt Pavilion Arlington: Martha & The Vandellas
DESCRIPTION:Dreamfest Day 1 \n7:10 PM – Levitt Youth Spotlight presented by Texas Trust Credit Union \n7:30 PM – Opener TBA \n8:30 PM – Martha & The Vandellas \nFind more info here!
URL:https://arlingtonamplified.org/event/levitt-pavilion-arlington-martha-the-vandellas/
LOCATION:Levitt Pavilion\, 100 W. Abram St.\, Arlington\, TX\, 76010\, United States
ATTACH;FMTTYPE=image/png:https://arlingtonamplified.org/wp-content/uploads/2026/03/image-4.png
END:VEVENT
BEGIN:VEVENT
DTSTART;TZID=UTC:20260523T193000
DTEND;TZID=UTC:20260523T193000
DTSTAMP:20260420T144538
CREATED:20260316T155905Z
LAST-MODIFIED:20260316T155905Z
UID:5067-1779564600-1779564600@arlingtonamplified.org
SUMMARY:Levitt Pavilion Arlington: Wade Bowen ft. Mike Ryan
DESCRIPTION:Dreamfest Day 2 \n5:40 PM – Levitt Youth Spotlight presented by Texas Trust Credit Union \n6:00 PM – Opener TBA \n7:00 PM – Mike Ryan \nFind more info here!
URL:https://arlingtonamplified.org/event/levitt-pavilion-arlington-wade-bowen-ft-mike-ryan/
LOCATION:Levitt Pavilion\, 100 W. Abram St.\, Arlington\, TX\, 76010\, United States
ATTACH;FMTTYPE=image/jpeg:https://arlingtonamplified.org/wp-content/uploads/2026/03/image-8.jpeg
END:VEVENT
BEGIN:VEVENT
DTSTART;TZID=UTC:20260524T193000
DTEND;TZID=UTC:20260524T193000
DTSTAMP:20260420T144538
CREATED:20260416T174013Z
LAST-MODIFIED:20260416T174013Z
UID:5514-1779651000-1779651000@arlingtonamplified.org
SUMMARY:Levitt Pavilion: Marcos Orozco w/ Grupo Pression
DESCRIPTION:Dreamfest Day 3! \n7:10 PM – Levitt Youth Spotlight presented by Texas Trust Credit Union \n7:30 PM – Grupo Pression \n8:30 PM – Marcos Orozco \nFind more info here!
URL:https://arlingtonamplified.org/event/levitt-pavilion-marcos-orozco-w-grupo-pression/
LOCATION:Levitt Pavilion\, 100 W. Abram St.\, Arlington\, TX\, 76010\, United States
ATTACH;FMTTYPE=image/png:https://arlingtonamplified.org/wp-content/uploads/2026/04/image-27.png
END:VEVENT
BEGIN:VEVENT
DTSTART;TZID=UTC:20260529T193000
DTEND;TZID=UTC:20260529T193000
DTSTAMP:20260420T144538
CREATED:20260416T174324Z
LAST-MODIFIED:20260416T174324Z
UID:5517-1780083000-1780083000@arlingtonamplified.org
SUMMARY:Levitt Pavilion: Cut Throat Finches ft. Max and Landon Band
DESCRIPTION:7:10 PM – Levitt Youth Spotlight presented by Texas Trust Credit Union \n7:30 PM – Max and Landon Band \n8:30 PM – Cut Throat Finches \nFind more info here!
URL:https://arlingtonamplified.org/event/levitt-pavilion-cut-throat-finches-ft-max-and-landon-band/
LOCATION:Levitt Pavilion\, 100 W. Abram St.\, Arlington\, TX\, 76010\, United States
ATTACH;FMTTYPE=image/png:https://arlingtonamplified.org/wp-content/uploads/2026/04/Screenshot-2026-04-16-at-12.42.36-PM.png
END:VEVENT
BEGIN:VEVENT
DTSTART;TZID=UTC:20260605T190000
DTEND;TZID=UTC:20260605T210000
DTSTAMP:20260420T144538
CREATED:20260404T213048Z
LAST-MODIFIED:20260407T145523Z
UID:5298-1780686000-1780693200@arlingtonamplified.org
SUMMARY:F6 Art Lounge: Garrett Owen
DESCRIPTION:Come out and enjoy some Cowboy troubadour music at F6!
URL:https://arlingtonamplified.org/event/f6-art-lounge-garrett-owen/
LOCATION:TX
ATTACH;FMTTYPE=image/png:https://arlingtonamplified.org/wp-content/uploads/2026/04/Garrett-Owen.png
END:VEVENT
BEGIN:VEVENT
DTSTART;TZID=UTC:20260605T193000
DTEND;TZID=UTC:20260605T193000
DTSTAMP:20260420T144538
CREATED:20260316T160117Z
LAST-MODIFIED:20260316T160117Z
UID:5071-1780687800-1780687800@arlingtonamplified.org
SUMMARY:Levitt Pavilion Arlington: Prophets and Outlaws ft. Taylor LaCourse and Jesse Spradlin
DESCRIPTION:7:10 PM – Levitt Youth Spotlight presented by Texas Trust Credit Union \n7:30 PM – Taylor LaCourse and Jesse Spradlin \n8:30 PM – Prophets and Outlaws \nFind more info here!
URL:https://arlingtonamplified.org/event/levitt-pavilion-arlington-prophets-and-outlaws-ft-taylor-lacourse-and-jesse-spradlin/
LOCATION:Levitt Pavilion\, 100 W. Abram St.\, Arlington\, TX\, 76010\, United States
ATTACH;FMTTYPE=image/png:https://arlingtonamplified.org/wp-content/uploads/2026/03/image-5.png
END:VEVENT
BEGIN:VEVENT
DTSTART;TZID=UTC:20260606T193000
DTEND;TZID=UTC:20260606T193000
DTSTAMP:20260420T144538
CREATED:20260316T160303Z
LAST-MODIFIED:20260316T160303Z
UID:5074-1780774200-1780774200@arlingtonamplified.org
SUMMARY:Levitt Pavilion Arlington: Tristan Roberson ft. The Branded Saddle Boys
DESCRIPTION:7:10 PM – Levitt Youth Spotlight presented by Texas Trust Credit Union \n7:30 PM – The Branded Saddle Boys  \n8:30 PM – Tristan Roberson \nFind more info here!
URL:https://arlingtonamplified.org/event/levitt-pavilion-arlington-tristan-roberson-ft-the-branded-saddle-boys/
LOCATION:Levitt Pavilion\, 100 W. Abram St.\, Arlington\, TX\, 76010\, United States
ATTACH;FMTTYPE=image/png:https://arlingtonamplified.org/wp-content/uploads/2026/03/image-6.png
END:VEVENT
BEGIN:VEVENT
DTSTART;TZID=UTC:20260611T193000
DTEND;TZID=UTC:20260611T193000
DTSTAMP:20260420T144538
CREATED:20260407T152636Z
LAST-MODIFIED:20260407T152636Z
UID:5363-1781206200-1781206200@arlingtonamplified.org
SUMMARY:Arlington Music Hall: Michael Hix
DESCRIPTION:Enjoy a night of great music\, energy\, and unforgettable live entertainment. Find more info and tickets here!
URL:https://arlingtonamplified.org/event/arlington-music-hall-michael-hix-3/
LOCATION:Arlington Music Hall\, 224 N Center St\, Arlington\, TX\, 76011
ATTACH;FMTTYPE=image/png:https://arlingtonamplified.org/wp-content/uploads/2026/04/image-19.png
END:VEVENT
BEGIN:VEVENT
DTSTART;TZID=UTC:20260612T193000
DTEND;TZID=UTC:20260612T193000
DTSTAMP:20260420T144538
CREATED:20260416T174553Z
LAST-MODIFIED:20260416T174553Z
UID:5521-1781292600-1781292600@arlingtonamplified.org
SUMMARY:Levitt Pavilion: Loca Pasion ft. Saul Eduardo
DESCRIPTION:7:10 PM – Levitt Youth Spotlight presented by Texas Trust Credit Union \n7:30 PM – Saul Eduardo \n8:30 PM – Loca Pasion \nFind more info here!
URL:https://arlingtonamplified.org/event/levitt-pavilion-loca-pasion-ft-saul-eduardo/
LOCATION:Levitt Pavilion\, 100 W. Abram St.\, Arlington\, TX\, 76010\, United States
ATTACH;FMTTYPE=image/png:https://arlingtonamplified.org/wp-content/uploads/2026/04/image-28.png
END:VEVENT
BEGIN:VEVENT
DTSTART;TZID=UTC:20260619T193000
DTEND;TZID=UTC:20260619T193000
DTSTAMP:20260420T144538
CREATED:20260316T160606Z
LAST-MODIFIED:20260316T160606Z
UID:5077-1781897400-1781897400@arlingtonamplified.org
SUMMARY:Levitt Pavilion Arlington: Singer-Songwriter Night w/ Radney Foster Band
DESCRIPTION:7:10 PM – Levitt Youth Spotlight presented by Texas Trust Credit Union \n7:30 PM – Opener TBA \n8:30 PM – Radney Foster Band  \nThank you to the Texas Music Office for sponsoring this free night of live music! Find more info here!
URL:https://arlingtonamplified.org/event/levitt-pavilion-arlington-singer-songwriter-night-w-radney-foster-band/
LOCATION:Levitt Pavilion\, 100 W. Abram St.\, Arlington\, TX\, 76010\, United States
ATTACH;FMTTYPE=image/png:https://arlingtonamplified.org/wp-content/uploads/2026/03/image-7.png
END:VEVENT
BEGIN:VEVENT
DTSTART;TZID=UTC:20260619T193000
DTEND;TZID=UTC:20260619T193000
DTSTAMP:20260420T144538
CREATED:20260407T153011Z
LAST-MODIFIED:20260407T153011Z
UID:5366-1781897400-1781897400@arlingtonamplified.org
SUMMARY:Arlington Music Hall: Neil Diamond Experience Starring Robert Neary
DESCRIPTION:Get ready to feel the magic of Neil Diamond with Robert Neary! Find more info and tickets here!
URL:https://arlingtonamplified.org/event/arlington-music-hall-neil-diamond-experience-starring-robert-neary/
LOCATION:Arlington Music Hall\, 224 N Center St\, Arlington\, TX\, 76011
ATTACH;FMTTYPE=image/png:https://arlingtonamplified.org/wp-content/uploads/2026/04/image-20.png
END:VEVENT
BEGIN:VEVENT
DTSTART;TZID=UTC:20260620T170000
DTEND;TZID=UTC:20260620T170000
DTSTAMP:20260420T144538
CREATED:20260416T174844Z
LAST-MODIFIED:20260416T174844Z
UID:5524-1781974800-1781974800@arlingtonamplified.org
SUMMARY:Levitt Pavilion: Annual Arlington Juneteenth Celebration
DESCRIPTION:Sponsored by Iota Mu Sigma Chapter of Phi Beta Sigma Fraternity Inc. \n5:00 PM – Doors \n6:00 PM – National Anthem & Black National Anthem performed by Levitt Youth Spotlight  \n7:00 PM – Branoofunck \n8:30 PM – 4Ya Soul Band \nFind more information here!
URL:https://arlingtonamplified.org/event/levitt-pavilion-annual-arlington-juneteenth-celebration/
LOCATION:Levitt Pavilion\, 100 W. Abram St.\, Arlington\, TX\, 76010\, United States
ATTACH;FMTTYPE=image/png:https://arlingtonamplified.org/wp-content/uploads/2026/04/image-29.png
END:VEVENT
BEGIN:VEVENT
DTSTART;TZID=UTC:20260625T190000
DTEND;TZID=UTC:20260625T190000
DTSTAMP:20260420T144538
CREATED:20260407T153224Z
LAST-MODIFIED:20260407T153224Z
UID:5369-1782414000-1782414000@arlingtonamplified.org
SUMMARY:Arlington Music Hall: Edwin McCain & Five For Fighting
DESCRIPTION:Two iconic voices\, one unforgettable night. Find more info and tickets here!
URL:https://arlingtonamplified.org/event/arlington-music-hall-edwin-mccain-five-for-fighting/
LOCATION:Arlington Music Hall\, 224 N Center St\, Arlington\, TX\, 76011
ATTACH;FMTTYPE=image/png:https://arlingtonamplified.org/wp-content/uploads/2026/04/image-21.png
END:VEVENT
BEGIN:VEVENT
DTSTART;TZID=UTC:20260626T190000
DTEND;TZID=UTC:20260626T210000
DTSTAMP:20260420T144538
CREATED:20260404T213244Z
LAST-MODIFIED:20260407T145631Z
UID:5301-1782500400-1782507600@arlingtonamplified.org
SUMMARY:F6 Art Lounge: Joseph Neville
DESCRIPTION:An Indie and country folk artist! Come out and enjoy the live tunes!
URL:https://arlingtonamplified.org/event/f6-art-lounge-joseph-neville/
LOCATION:TX
ATTACH;FMTTYPE=image/png:https://arlingtonamplified.org/wp-content/uploads/2026/04/Joseph-Neville.png
END:VEVENT
BEGIN:VEVENT
DTSTART;TZID=UTC:20260626T200000
DTEND;TZID=UTC:20260626T200000
DTSTAMP:20260420T144538
CREATED:20260407T153412Z
LAST-MODIFIED:20260407T153412Z
UID:5372-1782504000-1782504000@arlingtonamplified.org
SUMMARY:Arlington Music Hall: Bee Gees Gold - The Tribute
DESCRIPTION:Relive the magic of the Bee Gees’ iconic hits. Find more info and tickets here!
URL:https://arlingtonamplified.org/event/arlington-music-hall-bee-gees-gold-the-tribute/
LOCATION:Arlington Music Hall\, 224 N Center St\, Arlington\, TX\, 76011
ATTACH;FMTTYPE=image/png:https://arlingtonamplified.org/wp-content/uploads/2026/04/image-22.png
END:VEVENT
BEGIN:VEVENT
DTSTART;TZID=UTC:20260717T190000
DTEND;TZID=UTC:20260717T210000
DTSTAMP:20260420T144538
CREATED:20260404T213412Z
LAST-MODIFIED:20260407T145723Z
UID:5304-1784314800-1784322000@arlingtonamplified.org
SUMMARY:F6 Art Lounge: Isaac Hoskins
DESCRIPTION:This is a country singer-songwriter with a story to tell!
URL:https://arlingtonamplified.org/event/f6-art-lounge-isaac-hoskins/
LOCATION:TX
ATTACH;FMTTYPE=image/png:https://arlingtonamplified.org/wp-content/uploads/2026/04/Isaac-Hoskins.png
END:VEVENT
BEGIN:VEVENT
DTSTART;TZID=UTC:20260730T200000
DTEND;TZID=UTC:20260730T200000
DTSTAMP:20260420T144538
CREATED:20260310T161552Z
LAST-MODIFIED:20260310T161552Z
UID:4953-1785441600-1785441600@arlingtonamplified.org
SUMMARY:Globe Life Field: Noah Kahan
DESCRIPTION:Noah Kahan is bringing The Great Divide Tour to Globe Life Field on July 30 with Gigi Perez!⁠ \nFind more general information here!
URL:https://arlingtonamplified.org/event/globe-life-field-noah-kahan/
LOCATION:Globe Life Field\, 734 Stadium Dr\, Arlington\, TX\, 76011\, United States
ATTACH;FMTTYPE=image/png:https://arlingtonamplified.org/wp-content/uploads/2026/03/Screenshot-2026-03-10-at-11.13.45-AM.png
END:VEVENT
BEGIN:VEVENT
DTSTART;TZID=UTC:20260731T190000
DTEND;TZID=UTC:20260731T210000
DTSTAMP:20260420T144538
CREATED:20260404T213819Z
LAST-MODIFIED:20260407T145814Z
UID:5307-1785524400-1785531600@arlingtonamplified.org
SUMMARY:F6 Art Lounge: Courtney Patton
DESCRIPTION:Deep & soulful country music like Emmylou Harris coming to you live at The F6 Art Lounge!!!
URL:https://arlingtonamplified.org/event/f6-art-lounge-courtney-patton/
LOCATION:TX
ATTACH;FMTTYPE=image/png:https://arlingtonamplified.org/wp-content/uploads/2026/04/Courtney-Patton.png
END:VEVENT
BEGIN:VEVENT
DTSTART;TZID=UTC:20260731T200000
DTEND;TZID=UTC:20260731T200000
DTSTAMP:20260420T144538
CREATED:20260316T152907Z
LAST-MODIFIED:20260316T152934Z
UID:5031-1785528000-1785528000@arlingtonamplified.org
SUMMARY:Globe Life Field: Fuerza Regida
DESCRIPTION:Fuerza Regida is sharing the dream with us at Globe Life Field! “This is our Dream” Stadium Tour 2026. Find tickets and more info here!
URL:https://arlingtonamplified.org/event/globe-life-field-fuerza-regida/
LOCATION:Globe Life Field\, 734 Stadium Dr\, Arlington\, TX\, 76011\, United States
ATTACH;FMTTYPE=image/jpeg:https://arlingtonamplified.org/wp-content/uploads/2026/03/image-4.jpeg
END:VEVENT
BEGIN:VEVENT
DTSTART;TZID=UTC:20260801T200000
DTEND;TZID=UTC:20260801T200000
DTSTAMP:20260420T144538
CREATED:20260316T153717Z
LAST-MODIFIED:20260316T153717Z
UID:5042-1785614400-1785614400@arlingtonamplified.org
SUMMARY:Globe Life Field: Forrest Frank
DESCRIPTION:A can’t-miss Worship Experience with special guests Tori Kelly\, Cory Asbury\, and The Figs. Find tickets and more info here!
URL:https://arlingtonamplified.org/event/globe-life-field-forrest-frank/
LOCATION:Globe Life Field\, 734 Stadium Dr\, Arlington\, TX\, 76011\, United States
ATTACH;FMTTYPE=image/jpeg:https://arlingtonamplified.org/wp-content/uploads/2026/03/image-5.jpeg
END:VEVENT
BEGIN:VEVENT
DTSTART;TZID=UTC:20260822T200000
DTEND;TZID=UTC:20260822T200000
DTSTAMP:20260420T144538
CREATED:20251224T232931Z
LAST-MODIFIED:20251224T232931Z
UID:4255-1787428800-1787428800@arlingtonamplified.org
SUMMARY:AT&T: Zach Bryan
DESCRIPTION:Zach Bryan: With Heaven on Tour featuring MJ Lenderman and Fey Fili. Find more info and tickets here!
URL:https://arlingtonamplified.org/event/att-zach-bryan/
LOCATION:AT&T Stadium\, 1 AT&T Way\, Arlington\, TX\, 76011\, United States
ATTACH;FMTTYPE=image/jpeg:https://arlingtonamplified.org/wp-content/uploads/2025/12/0822-Arlington_ZachBryan_2026_700x525-1.jpg
END:VEVENT
END:VCALENDAR