BEGIN:VCALENDAR
VERSION:2.0
PRODID:-//Arlington Amplified - ECPv6.15.20//NONSGML v1.0//EN
CALSCALE:GREGORIAN
METHOD:PUBLISH
X-ORIGINAL-URL:https://arlingtonamplified.org
X-WR-CALDESC:Events for Arlington Amplified
REFRESH-INTERVAL;VALUE=DURATION:PT1H
X-Robots-Tag:noindex
X-PUBLISHED-TTL:PT1H
BEGIN:VTIMEZONE
TZID:UTC
BEGIN:STANDARD
TZOFFSETFROM:+0000
TZOFFSETTO:+0000
TZNAME:UTC
DTSTART:20250101T000000
END:STANDARD
END:VTIMEZONE
BEGIN:VEVENT
DTSTART;TZID=UTC:20260423T200000
DTEND;TZID=UTC:20260423T220000
DTSTAMP:20260420T041308
CREATED:20260407T155833Z
LAST-MODIFIED:20260407T155833Z
UID:5411-1776974400-1776981600@arlingtonamplified.org
SUMMARY:Troy's: Mountain Natives
DESCRIPTION:Find more information about upcoming Troy’s artists here!
URL:https://arlingtonamplified.org/event/troys-mountain-natives/
LOCATION:Troy’s\, 1650 E Randol Mill Rd STE 100\, Arlington\, TX\, 76011
ATTACH;FMTTYPE=image/jpeg:https://arlingtonamplified.org/wp-content/uploads/2026/02/475980335_1087796160025733_8946217289584237526_n.jpg
END:VEVENT
BEGIN:VEVENT
DTSTART;TZID=UTC:20260424T140000
DTEND;TZID=UTC:20260424T140000
DTSTAMP:20260420T041308
CREATED:20251224T232412Z
LAST-MODIFIED:20251224T232412Z
UID:4248-1777039200-1777039200@arlingtonamplified.org
SUMMARY:AT&T: Lone Star Smokeout
DESCRIPTION:The second annual Lone Star Smokeout is returning to Arlington for a parking lot party at AT&T Stadium! Find more info and tickets here!
URL:https://arlingtonamplified.org/event/att-lone-star-smokeout/
LOCATION:AT&T Stadium\, 1 AT&T Way\, Arlington\, TX\, 76011\, United States
ATTACH;FMTTYPE=image/jpeg:https://arlingtonamplified.org/wp-content/uploads/2025/12/ATT-Web-700x525-100-1.jpg
END:VEVENT
BEGIN:VEVENT
DTSTART;TZID=UTC:20260424T170000
DTEND;TZID=UTC:20260424T190000
DTSTAMP:20260420T041308
CREATED:20260407T155946Z
LAST-MODIFIED:20260407T155946Z
UID:5413-1777050000-1777057200@arlingtonamplified.org
SUMMARY:Troy's: Savage Hurley
DESCRIPTION:Find more information about upcoming Troy’s artists here!
URL:https://arlingtonamplified.org/event/troys-savage-hurley-2/
LOCATION:Troy’s\, 1650 E Randol Mill Rd STE 100\, Arlington\, TX\, 76011
ATTACH;FMTTYPE=image/jpeg:https://arlingtonamplified.org/wp-content/uploads/2026/02/475980335_1087796160025733_8946217289584237526_n.jpg
END:VEVENT
BEGIN:VEVENT
DTSTART;TZID=UTC:20260424T190000
DTEND;TZID=UTC:20260424T210000
DTSTAMP:20260420T041308
CREATED:20260404T212206Z
LAST-MODIFIED:20260407T144932Z
UID:5286-1777057200-1777064400@arlingtonamplified.org
SUMMARY:F6 Art Lounge: Guthrie and Sibley
DESCRIPTION:Local Blues Legends playing live in downtown Arlington
URL:https://arlingtonamplified.org/event/f6-art-lounge-guthrie-and-sibley/
ATTACH;FMTTYPE=image/png:https://arlingtonamplified.org/wp-content/uploads/2026/04/Guthrie-Sibley.png
END:VEVENT
BEGIN:VEVENT
DTSTART;TZID=UTC:20260424T193000
DTEND;TZID=UTC:20260424T193000
DTSTAMP:20260420T041308
CREATED:20260316T154613Z
LAST-MODIFIED:20260416T172439Z
UID:5051-1777059000-1777059000@arlingtonamplified.org
SUMMARY:Levitt Pavilion Arlington: Uncle Lucius ft. Jordan Nix
DESCRIPTION:7:10 PM – Levitt Youth Spotlight presented by Texas Trust Credit Union \n7:30 PM – Jordan Nix \n8:30 PM – Uncle Lucius  \nFind more information here!
URL:https://arlingtonamplified.org/event/levitt-pavilion-arlington-uncle-lucius-w-tba/
LOCATION:Levitt Pavilion\, 100 W. Abram St.\, Arlington\, TX\, 76010\, United States
ATTACH;FMTTYPE=image/png:https://arlingtonamplified.org/wp-content/uploads/2026/03/image-1.png
END:VEVENT
BEGIN:VEVENT
DTSTART;TZID=UTC:20260424T210000
DTEND;TZID=UTC:20260424T210000
DTSTAMP:20260420T041308
CREATED:20260409T185604Z
LAST-MODIFIED:20260409T185604Z
UID:5465-1777064400-1777064400@arlingtonamplified.org
SUMMARY:HWY Bar: Don Pendley
DESCRIPTION:Live music every weekend at HWY! Learn more about upcoming artists here!
URL:https://arlingtonamplified.org/event/hwy-bar-don-pendley-6/
LOCATION:HWY Bar\, 5930 W Interstate 20 #218\, Arlington\, TX\, 76017
ATTACH;FMTTYPE=image/jpeg:https://arlingtonamplified.org/wp-content/uploads/2025/06/aqgpalxsqeigpgqcpqtm.jpg
END:VEVENT
BEGIN:VEVENT
DTSTART;TZID=UTC:20260424T210000
DTEND;TZID=UTC:20260424T230000
DTSTAMP:20260420T041308
CREATED:20260407T160111Z
LAST-MODIFIED:20260407T160111Z
UID:5415-1777064400-1777071600@arlingtonamplified.org
SUMMARY:Troy's: Grant Gillispie & The Morning Shakes
DESCRIPTION:Find more information about upcoming Troy’s artists here!
URL:https://arlingtonamplified.org/event/troys-grant-gillispie-the-morning-shakes/
LOCATION:Troy’s\, 1650 E Randol Mill Rd STE 100\, Arlington\, TX\, 76011
ATTACH;FMTTYPE=image/jpeg:https://arlingtonamplified.org/wp-content/uploads/2026/02/475980335_1087796160025733_8946217289584237526_n.jpg
END:VEVENT
BEGIN:VEVENT
DTSTART;TZID=UTC:20260425T130000
DTEND;TZID=UTC:20260425T130000
DTSTAMP:20260420T041308
CREATED:20251224T232515Z
LAST-MODIFIED:20251224T232515Z
UID:4251-1777122000-1777122000@arlingtonamplified.org
SUMMARY:AT&T: Lone Star Smokeout
DESCRIPTION:The second annual Lone Star Smokeout is returning to Arlington for a parking lot party at AT&T Stadium! Find more info and tickets here!
URL:https://arlingtonamplified.org/event/att-lone-star-smokeout-2/
LOCATION:AT&T Stadium\, 1 AT&T Way\, Arlington\, TX\, 76011\, United States
ATTACH;FMTTYPE=image/jpeg:https://arlingtonamplified.org/wp-content/uploads/2025/12/ATT-Web-700x525-100-1.jpg
END:VEVENT
BEGIN:VEVENT
DTSTART;TZID=UTC:20260425T160000
DTEND;TZID=UTC:20260425T180000
DTSTAMP:20260420T041308
CREATED:20260325T154720Z
LAST-MODIFIED:20260325T154720Z
UID:5162-1777132800-1777140000@arlingtonamplified.org
SUMMARY:Troy's: Hankins
DESCRIPTION:Find more information on this artist and upcoming shows here!
URL:https://arlingtonamplified.org/event/troys-hankins/
LOCATION:Troy’s\, 1650 E Randol Mill Rd STE 100\, Arlington\, TX\, 76011
ATTACH;FMTTYPE=image/jpeg:https://arlingtonamplified.org/wp-content/uploads/2025/07/IMG_1232.jpg
END:VEVENT
BEGIN:VEVENT
DTSTART;TZID=UTC:20260425T190000
DTEND;TZID=UTC:20260425T220000
DTSTAMP:20260420T041308
CREATED:20260324T192744Z
LAST-MODIFIED:20260324T192744Z
UID:5136-1777143600-1777154400@arlingtonamplified.org
SUMMARY:Hearsay: Abbey Brown and the Sound
DESCRIPTION:Abbey Brown and The Sound is a dynamic country cover band. Find more info here!
URL:https://arlingtonamplified.org/event/hearsay-abbey-brown-and-the-sound/
LOCATION:Hearsay Arlington\, 1711 E Randol Mill Rd.\, Arlington\, TX\, 76011\, United States
ATTACH;FMTTYPE=image/jpeg:https://arlingtonamplified.org/wp-content/uploads/2026/03/image-11.jpeg
END:VEVENT
BEGIN:VEVENT
DTSTART;TZID=UTC:20260425T193000
DTEND;TZID=UTC:20260425T193000
DTSTAMP:20260420T041308
CREATED:20260316T154922Z
LAST-MODIFIED:20260316T154922Z
UID:5055-1777145400-1777145400@arlingtonamplified.org
SUMMARY:Levitt Pavilion Arlington: Jay Perez ft. Sabor Puro
DESCRIPTION:7:10 PM – Levitt Youth Spotlight presented by Texas Trust Credit Union \n7:30 PM – Sabor Puro \n8:30 PM – Jay Pérez \nFind more information here!
URL:https://arlingtonamplified.org/event/levitt-pavilion-arlington-jay-perez-ft-sabor-puro/
LOCATION:Levitt Pavilion\, 100 W. Abram St.\, Arlington\, TX\, 76010\, United States
ATTACH;FMTTYPE=image/png:https://arlingtonamplified.org/wp-content/uploads/2026/03/image-2.png
END:VEVENT
BEGIN:VEVENT
DTSTART;TZID=UTC:20260425T200000
DTEND;TZID=UTC:20260425T200000
DTSTAMP:20260420T041308
CREATED:20260414T192446Z
LAST-MODIFIED:20260414T192446Z
UID:5494-1777147200-1777147200@arlingtonamplified.org
SUMMARY:Growl: Various Artists
DESCRIPTION:Featuring The Fault Lines\, King Otter\, and Pipe Dog!
URL:https://arlingtonamplified.org/event/growl-various-artists-28/
LOCATION:Growl Records\, 509 E Abram St\, Arlington\, TX\, 76010\, United States
ATTACH;FMTTYPE=image/png:https://arlingtonamplified.org/wp-content/uploads/2026/04/Screenshot-2026-04-14-at-2.18.41-PM.png
END:VEVENT
BEGIN:VEVENT
DTSTART;TZID=UTC:20260425T210000
DTEND;TZID=UTC:20260425T210000
DTSTAMP:20260420T041308
CREATED:20260409T185706Z
LAST-MODIFIED:20260409T185706Z
UID:5467-1777150800-1777150800@arlingtonamplified.org
SUMMARY:HWY Bar: Crossfire Serenade
DESCRIPTION:Live music every weekend at HWY! Learn more about upcoming artists here!
URL:https://arlingtonamplified.org/event/hwy-bar-crossfire-serenade-5/
LOCATION:HWY Bar\, 5930 W Interstate 20 #218\, Arlington\, TX\, 76017
ATTACH;FMTTYPE=image/jpeg:https://arlingtonamplified.org/wp-content/uploads/2026/02/611376938_122204678072346144_8589676225078248025_n.jpg
END:VEVENT
BEGIN:VEVENT
DTSTART;TZID=UTC:20260425T210000
DTEND;TZID=UTC:20260425T210000
DTSTAMP:20260420T041308
CREATED:20260416T211625Z
LAST-MODIFIED:20260416T211625Z
UID:5543-1777150800-1777150800@arlingtonamplified.org
SUMMARY:Tanstaafl Pub: Velvet Love Box
DESCRIPTION:Celebrate Tabstaafl Pub’s 50th anniversary with live music!
URL:https://arlingtonamplified.org/event/tanstaafl-pub-velvet-love-box/
LOCATION:Tanstaafl Pub\, 409 N Bowen Rd\, Arlington\, TX\, 76012
ATTACH;FMTTYPE=image/png:https://arlingtonamplified.org/wp-content/uploads/2026/04/Screenshot-2026-04-16-at-4.13.34-PM.png
END:VEVENT
BEGIN:VEVENT
DTSTART;TZID=UTC:20260425T210000
DTEND;TZID=UTC:20260425T230000
DTSTAMP:20260420T041308
CREATED:20260407T160230Z
LAST-MODIFIED:20260407T160230Z
UID:5417-1777150800-1777158000@arlingtonamplified.org
SUMMARY:Troy's: Ohio is for Covers
DESCRIPTION:Find more information about upcoming Troy’s artists here!
URL:https://arlingtonamplified.org/event/troys-ohio-is-for-covers/
LOCATION:Troy’s\, 1650 E Randol Mill Rd STE 100\, Arlington\, TX\, 76011
ATTACH;FMTTYPE=image/jpeg:https://arlingtonamplified.org/wp-content/uploads/2026/02/475980335_1087796160025733_8946217289584237526_n.jpg
END:VEVENT
BEGIN:VEVENT
DTSTART;TZID=UTC:20260426T133000
DTEND;TZID=UTC:20260426T133000
DTSTAMP:20260420T041308
CREATED:20251224T232615Z
LAST-MODIFIED:20251224T232615Z
UID:4253-1777210200-1777210200@arlingtonamplified.org
SUMMARY:AT&T: Lone Star Smokeout
DESCRIPTION:The second annual Lone Star Smokeout is returning to Arlington for a parking lot party at AT&T Stadium! Find more info and tickets here!
URL:https://arlingtonamplified.org/event/att-lone-star-smokeout-3/
LOCATION:AT&T Stadium\, 1 AT&T Way\, Arlington\, TX\, 76011\, United States
ATTACH;FMTTYPE=image/jpeg:https://arlingtonamplified.org/wp-content/uploads/2025/12/ATT-Web-700x525-100-1.jpg
END:VEVENT
BEGIN:VEVENT
DTSTART;TZID=UTC:20260426T160000
DTEND;TZID=UTC:20260426T180000
DTSTAMP:20260420T041308
CREATED:20260407T160339Z
LAST-MODIFIED:20260407T160339Z
UID:5419-1777219200-1777226400@arlingtonamplified.org
SUMMARY:Troy's: RetroActive
DESCRIPTION:Find more information about upcoming Troy’s artists here!
URL:https://arlingtonamplified.org/event/troys-retroactive/
LOCATION:Troy’s\, 1650 E Randol Mill Rd STE 100\, Arlington\, TX\, 76011
ATTACH;FMTTYPE=image/jpeg:https://arlingtonamplified.org/wp-content/uploads/2026/02/475980335_1087796160025733_8946217289584237526_n.jpg
END:VEVENT
BEGIN:VEVENT
DTSTART;TZID=UTC:20260428T170000
DTEND;TZID=UTC:20260428T190000
DTSTAMP:20260420T041308
CREATED:20260407T160437Z
LAST-MODIFIED:20260407T160437Z
UID:5421-1777395600-1777402800@arlingtonamplified.org
SUMMARY:Troy's: Ronda Ray
DESCRIPTION:Find more information about upcoming Troy’s artists here!
URL:https://arlingtonamplified.org/event/troys-ronda-ray/
LOCATION:Troy’s\, 1650 E Randol Mill Rd STE 100\, Arlington\, TX\, 76011
ATTACH;FMTTYPE=image/jpeg:https://arlingtonamplified.org/wp-content/uploads/2026/02/475980335_1087796160025733_8946217289584237526_n.jpg
END:VEVENT
BEGIN:VEVENT
DTSTART;TZID=UTC:20260428T200000
DTEND;TZID=UTC:20260428T220000
DTSTAMP:20260420T041308
CREATED:20260407T160539Z
LAST-MODIFIED:20260407T160539Z
UID:5423-1777406400-1777413600@arlingtonamplified.org
SUMMARY:Troy's: Jered Parker Harlan
DESCRIPTION:Find more information about upcoming Troy’s artists here!
URL:https://arlingtonamplified.org/event/troys-jered-parker-harlan/
LOCATION:Troy’s\, 1650 E Randol Mill Rd STE 100\, Arlington\, TX\, 76011
ATTACH;FMTTYPE=image/jpeg:https://arlingtonamplified.org/wp-content/uploads/2026/02/475980335_1087796160025733_8946217289584237526_n.jpg
END:VEVENT
BEGIN:VEVENT
DTSTART;TZID=UTC:20260429T170000
DTEND;TZID=UTC:20260429T190000
DTSTAMP:20260420T041308
CREATED:20260407T160719Z
LAST-MODIFIED:20260407T160719Z
UID:5425-1777482000-1777489200@arlingtonamplified.org
SUMMARY:Troy's: Gracen Wynn
DESCRIPTION:Find more information about upcoming Troy’s artists here!
URL:https://arlingtonamplified.org/event/troys-gracen-wynn/
LOCATION:Troy’s\, 1650 E Randol Mill Rd STE 100\, Arlington\, TX\, 76011
ATTACH;FMTTYPE=image/jpeg:https://arlingtonamplified.org/wp-content/uploads/2026/02/475980335_1087796160025733_8946217289584237526_n.jpg
END:VEVENT
BEGIN:VEVENT
DTSTART;TZID=UTC:20260429T193000
DTEND;TZID=UTC:20260429T193000
DTSTAMP:20260420T041308
CREATED:20260407T150955Z
LAST-MODIFIED:20260407T150955Z
UID:5337-1777491000-1777491000@arlingtonamplified.org
SUMMARY:Arlington Music Hall: Welcome Back My Friends – An Evening with Emerson\, Lake & Palmer
DESCRIPTION:Experience the iconic sounds of progressive rock legends Emerson\, Lake & Palmer in this immersive multimedia tribute led by Carl Palmer! Find more info and tickets here!
URL:https://arlingtonamplified.org/event/arlington-music-hall-welcome-back-my-friends-an-evening-with-emerson-lake-palmer/
LOCATION:Arlington Music Hall\, 224 N Center St\, Arlington\, TX\, 76011
ATTACH;FMTTYPE=image/png:https://arlingtonamplified.org/wp-content/uploads/2026/04/image-11.png
END:VEVENT
BEGIN:VEVENT
DTSTART;TZID=UTC:20260429T200000
DTEND;TZID=UTC:20260429T220000
DTSTAMP:20260420T041308
CREATED:20260407T160813Z
LAST-MODIFIED:20260407T160813Z
UID:5427-1777492800-1777500000@arlingtonamplified.org
SUMMARY:Troy's: Mountain Natives
DESCRIPTION:Find more information about upcoming Troy’s artists here!
URL:https://arlingtonamplified.org/event/troys-mountain-natives-2/
LOCATION:Troy’s\, 1650 E Randol Mill Rd STE 100\, Arlington\, TX\, 76011
ATTACH;FMTTYPE=image/jpeg:https://arlingtonamplified.org/wp-content/uploads/2026/02/475980335_1087796160025733_8946217289584237526_n.jpg
END:VEVENT
BEGIN:VEVENT
DTSTART;TZID=UTC:20260430T170000
DTEND;TZID=UTC:20260430T190000
DTSTAMP:20260420T041308
CREATED:20260407T160912Z
LAST-MODIFIED:20260407T160912Z
UID:5430-1777568400-1777575600@arlingtonamplified.org
SUMMARY:Troy's: Jon McDaniel
DESCRIPTION:Find more information about upcoming Troy’s artists here!
URL:https://arlingtonamplified.org/event/troys-jon-mcdaniel-2/
LOCATION:Troy’s\, 1650 E Randol Mill Rd STE 100\, Arlington\, TX\, 76011
ATTACH;FMTTYPE=image/jpeg:https://arlingtonamplified.org/wp-content/uploads/2026/02/475980335_1087796160025733_8946217289584237526_n.jpg
END:VEVENT
BEGIN:VEVENT
DTSTART;TZID=UTC:20260430T200000
DTEND;TZID=UTC:20260430T200000
DTSTAMP:20260420T041308
CREATED:20260407T151140Z
LAST-MODIFIED:20260407T151140Z
UID:5340-1777579200-1777579200@arlingtonamplified.org
SUMMARY:Arlington Music Hall: Little River Band
DESCRIPTION:Celebrate 50 years of hits with Little River Band’s Happy Anniversary Tour—featuring classics like Reminiscing and Lady! \nFind more info and tickets here!
URL:https://arlingtonamplified.org/event/arlington-music-hall-little-river-band/
LOCATION:Arlington Music Hall\, 224 N Center St\, Arlington\, TX\, 76011
ATTACH;FMTTYPE=image/png:https://arlingtonamplified.org/wp-content/uploads/2026/04/image-12.png
END:VEVENT
BEGIN:VEVENT
DTSTART;TZID=UTC:20260430T200000
DTEND;TZID=UTC:20260430T220000
DTSTAMP:20260420T041308
CREATED:20260407T161026Z
LAST-MODIFIED:20260407T161026Z
UID:5432-1777579200-1777586400@arlingtonamplified.org
SUMMARY:Troy's: Late to the Station
DESCRIPTION:Find more information about upcoming Troy’s artists here!
URL:https://arlingtonamplified.org/event/troys-late-to-the-station-2/
LOCATION:Troy’s\, 1650 E Randol Mill Rd STE 100\, Arlington\, TX\, 76011
ATTACH;FMTTYPE=image/jpeg:https://arlingtonamplified.org/wp-content/uploads/2026/02/475980335_1087796160025733_8946217289584237526_n.jpg
END:VEVENT
BEGIN:VEVENT
DTSTART;TZID=UTC:20260501T190000
DTEND;TZID=UTC:20260501T210000
DTSTAMP:20260420T041308
CREATED:20260404T212451Z
LAST-MODIFIED:20260407T145026Z
UID:5289-1777662000-1777669200@arlingtonamplified.org
SUMMARY:F6 Art Lounge: Dan Johnson
DESCRIPTION:Want a great show? Come on out and see Dan Johnson celebrating his release party at an intimate venue for an intimate experience.
URL:https://arlingtonamplified.org/event/f6-art-lounge-dan-johnson/
ATTACH;FMTTYPE=image/png:https://arlingtonamplified.org/wp-content/uploads/2026/04/Dan-Johnson.png
END:VEVENT
BEGIN:VEVENT
DTSTART;TZID=UTC:20260501T193000
DTEND;TZID=UTC:20260501T193000
DTSTAMP:20260420T041308
CREATED:20260416T173012Z
LAST-MODIFIED:20260416T173012Z
UID:5502-1777663800-1777663800@arlingtonamplified.org
SUMMARY:Levitt Pavilion: Shamarr Allen
DESCRIPTION:Presented by Texas Trust Credit Union \n7:10 PM – Levitt Youth Spotlight  \n7:30 PM – Opener TBD \n8:30 PM – Shamarr Allen \nFind more info here!
URL:https://arlingtonamplified.org/event/levitt-pavilion-shamarr-allen/
LOCATION:Levitt Pavilion\, 100 W. Abram St.\, Arlington\, TX\, 76010\, United States
ATTACH;FMTTYPE=image/png:https://arlingtonamplified.org/wp-content/uploads/2026/04/image-23.png
END:VEVENT
BEGIN:VEVENT
DTSTART;TZID=UTC:20260502T193000
DTEND;TZID=UTC:20260502T193000
DTSTAMP:20260420T041308
CREATED:20260210T201906Z
LAST-MODIFIED:20260316T155124Z
UID:4664-1777750200-1777750200@arlingtonamplified.org
SUMMARY:Levitt Pavilion Arlington: Liam St. John ft. Graham St. Clair Band
DESCRIPTION:7:10 PM – Levitt Youth Spotlight \n7:30 PM – Graham St. Clair Band \n8:30 PM – Liam St. John
URL:https://arlingtonamplified.org/event/levitt-pavilion-arlington-liam-st-john/
LOCATION:Levitt Pavilion\, 100 W. Abram St.\, Arlington\, TX\, 76010\, United States
ATTACH;FMTTYPE=image/png:https://arlingtonamplified.org/wp-content/uploads/2026/02/image-7.png
END:VEVENT
BEGIN:VEVENT
DTSTART;TZID=UTC:20260502T200000
DTEND;TZID=UTC:20260502T200000
DTSTAMP:20260420T041308
CREATED:20260407T151405Z
LAST-MODIFIED:20260407T151405Z
UID:5343-1777752000-1777752000@arlingtonamplified.org
SUMMARY:Arlington Music Hall: Rick Springfield
DESCRIPTION:Experience an intimate evening with Rick Springfield as he brings his Stripped Down Acoustic Tour to Arlington Music Hall. Find more info and tickets here!
URL:https://arlingtonamplified.org/event/arlington-music-hall-rick-springfield/
LOCATION:Arlington Music Hall\, 224 N Center St\, Arlington\, TX\, 76011
ATTACH;FMTTYPE=image/png:https://arlingtonamplified.org/wp-content/uploads/2026/04/image-13-scaled.png
END:VEVENT
BEGIN:VEVENT
DTSTART;TZID=UTC:20260502T200000
DTEND;TZID=UTC:20260502T200000
DTSTAMP:20260420T041308
CREATED:20260414T192631Z
LAST-MODIFIED:20260414T192631Z
UID:5497-1777752000-1777752000@arlingtonamplified.org
SUMMARY:Growl: Various Artists
DESCRIPTION:Featuring Foundead\, Tawagotos\, The Leroy Cravatt Dream\, & Posivial!
URL:https://arlingtonamplified.org/event/growl-various-artists-29/
LOCATION:Growl Records\, 509 E Abram St\, Arlington\, TX\, 76010\, United States
ATTACH;FMTTYPE=image/png:https://arlingtonamplified.org/wp-content/uploads/2026/04/Screenshot-2026-04-14-at-2.21.12-PM.png
END:VEVENT
END:VCALENDAR