BEGIN:VCALENDAR
VERSION:2.0
PRODID:-//Arlington Amplified - ECPv6.15.20//NONSGML v1.0//EN
CALSCALE:GREGORIAN
METHOD:PUBLISH
X-WR-CALNAME:Arlington Amplified
X-ORIGINAL-URL:https://arlingtonamplified.org
X-WR-CALDESC:Events for Arlington Amplified
REFRESH-INTERVAL;VALUE=DURATION:PT1H
X-Robots-Tag:noindex
X-PUBLISHED-TTL:PT1H
BEGIN:VTIMEZONE
TZID:UTC
BEGIN:STANDARD
TZOFFSETFROM:+0000
TZOFFSETTO:+0000
TZNAME:UTC
DTSTART:20250101T000000
END:STANDARD
END:VTIMEZONE
BEGIN:VEVENT
DTSTART;TZID=UTC:20260415T170000
DTEND;TZID=UTC:20260415T190000
DTSTAMP:20260419T205501
CREATED:20260407T154435Z
LAST-MODIFIED:20260407T154435Z
UID:5385-1776272400-1776279600@arlingtonamplified.org
SUMMARY:Troy's: Molly Chapin
DESCRIPTION:Live music every night at Troy’s! Learn more about upcoming artists here!
URL:https://arlingtonamplified.org/event/troys-molly-chapin/
LOCATION:Troy’s\, 1650 E Randol Mill Rd STE 100\, Arlington\, TX\, 76011
ATTACH;FMTTYPE=image/jpeg:https://arlingtonamplified.org/wp-content/uploads/2026/02/475980335_1087796160025733_8946217289584237526_n.jpg
END:VEVENT
BEGIN:VEVENT
DTSTART;TZID=UTC:20260415T200000
DTEND;TZID=UTC:20260415T220000
DTSTAMP:20260419T205501
CREATED:20260407T154535Z
LAST-MODIFIED:20260407T154535Z
UID:5388-1776283200-1776290400@arlingtonamplified.org
SUMMARY:Troy's: Rock Blues Band
DESCRIPTION:Live music every night at Troy’s! Learn more about upcoming artists here!
URL:https://arlingtonamplified.org/event/troys-rock-blues-band/
LOCATION:Troy’s\, 1650 E Randol Mill Rd STE 100\, Arlington\, TX\, 76011
ATTACH;FMTTYPE=image/jpeg:https://arlingtonamplified.org/wp-content/uploads/2026/02/475980335_1087796160025733_8946217289584237526_n.jpg
END:VEVENT
BEGIN:VEVENT
DTSTART;TZID=UTC:20260416T170000
DTEND;TZID=UTC:20260416T190000
DTSTAMP:20260419T205501
CREATED:20260407T154638Z
LAST-MODIFIED:20260407T154638Z
UID:5390-1776358800-1776366000@arlingtonamplified.org
SUMMARY:Troy's: Tom Fleischer
DESCRIPTION:Live music every night at Troy’s! Learn more about upcoming artists here!
URL:https://arlingtonamplified.org/event/troys-tom-fleischer-2/
LOCATION:Troy’s\, 1650 E Randol Mill Rd STE 100\, Arlington\, TX\, 76011
ATTACH;FMTTYPE=image/jpeg:https://arlingtonamplified.org/wp-content/uploads/2026/02/475980335_1087796160025733_8946217289584237526_n.jpg
END:VEVENT
BEGIN:VEVENT
DTSTART;TZID=UTC:20260416T200000
DTEND;TZID=UTC:20260416T230000
DTSTAMP:20260419T205501
CREATED:20260407T150250Z
LAST-MODIFIED:20260407T150250Z
UID:5328-1776369600-1776380400@arlingtonamplified.org
SUMMARY:Arlington Music Hall: Karina - Freedom Tour 2026
DESCRIPTION:¡Prepárate para vibrar con el Freedom Tour 2026 de Karina y bailar toda la noche como nunca antes!
URL:https://arlingtonamplified.org/event/arlington-music-hall-karina-freedom-tour-2026/
LOCATION:Arlington Music Hall\, 224 N Center St\, Arlington\, TX\, 76011
ATTACH;FMTTYPE=image/png:https://arlingtonamplified.org/wp-content/uploads/2026/04/image-9.png
END:VEVENT
BEGIN:VEVENT
DTSTART;TZID=UTC:20260417T170000
DTEND;TZID=UTC:20260417T190000
DTSTAMP:20260419T205501
CREATED:20260407T154742Z
LAST-MODIFIED:20260407T154742Z
UID:5392-1776445200-1776452400@arlingtonamplified.org
SUMMARY:Troy's: Noah Derrick
DESCRIPTION:Live music every night at Troy’s! Learn more about upcoming artists here!
URL:https://arlingtonamplified.org/event/troys-noah-derrick/
LOCATION:Troy’s\, 1650 E Randol Mill Rd STE 100\, Arlington\, TX\, 76011
ATTACH;FMTTYPE=image/jpeg:https://arlingtonamplified.org/wp-content/uploads/2026/02/475980335_1087796160025733_8946217289584237526_n.jpg
END:VEVENT
BEGIN:VEVENT
DTSTART;TZID=UTC:20260417T170000
DTEND;TZID=UTC:20260417T200000
DTSTAMP:20260419T205501
CREATED:20260416T180045Z
LAST-MODIFIED:20260416T180045Z
UID:5530-1776445200-1776456000@arlingtonamplified.org
SUMMARY:Hurtado BBQ: Dean Ray
DESCRIPTION:Live music\, cold drinks\, and great BBQ at Hurtado BBQ/Rodeo and Rye!
URL:https://arlingtonamplified.org/event/hurtado-bbq-dean-ray-3/
LOCATION:Hurtado BBQ\, 205 E Front St.\, Arlington\, Texas
ATTACH;FMTTYPE=image/jpeg:https://arlingtonamplified.org/wp-content/uploads/2025/09/Hurtado-Exterior.jpg
END:VEVENT
BEGIN:VEVENT
DTSTART;TZID=UTC:20260417T190000
DTEND;TZID=UTC:20260417T210000
DTSTAMP:20260419T205501
CREATED:20260404T211856Z
LAST-MODIFIED:20260407T144838Z
UID:5283-1776452400-1776459600@arlingtonamplified.org
SUMMARY:F6 Art Lounge: Drew Kennedy
DESCRIPTION:American troubadour Drew Kennedy will put on a great show at F6 Art Lounge! Come on out for great evening.
URL:https://arlingtonamplified.org/event/f6-art-lounge-drew-kennedy/
ATTACH;FMTTYPE=image/png:https://arlingtonamplified.org/wp-content/uploads/2026/04/Drew-Kennedy.png
END:VEVENT
BEGIN:VEVENT
DTSTART;TZID=UTC:20260417T190000
DTEND;TZID=UTC:20260417T220000
DTSTAMP:20260419T205501
CREATED:20260416T213949Z
LAST-MODIFIED:20260416T213949Z
UID:5554-1776452400-1776463200@arlingtonamplified.org
SUMMARY:Hearsay: Jukeboxers
DESCRIPTION:4 musicians with a 45 year history of party band music! This band is a must-see with these hits and great vocals! \nFind more info here!
URL:https://arlingtonamplified.org/event/hearsay-jukeboxers/
LOCATION:Hearsay Arlington\, 1711 E Randol Mill Rd.\, Arlington\, TX\, 76011\, United States
ATTACH;FMTTYPE=image/png:https://arlingtonamplified.org/wp-content/uploads/2026/04/image-30.png
END:VEVENT
BEGIN:VEVENT
DTSTART;TZID=UTC:20260417T200000
DTEND;TZID=UTC:20260417T200000
DTSTAMP:20260419T205501
CREATED:20260407T150513Z
LAST-MODIFIED:20260407T150513Z
UID:5331-1776456000-1776456000@arlingtonamplified.org
SUMMARY:Arlington Music Hall: Easton Corbin
DESCRIPTION:Easton Corbin – Let’s Do Country Right Tour! Find more info and tickets here!
URL:https://arlingtonamplified.org/event/arlington-music-hall-easton-corbin/
LOCATION:Arlington Music Hall\, 224 N Center St\, Arlington\, TX\, 76011
ATTACH;FMTTYPE=image/png:https://arlingtonamplified.org/wp-content/uploads/2026/04/image-10.png
END:VEVENT
BEGIN:VEVENT
DTSTART;TZID=UTC:20260417T200000
DTEND;TZID=UTC:20260417T200000
DTSTAMP:20260419T205501
CREATED:20260414T191906Z
LAST-MODIFIED:20260414T191906Z
UID:5488-1776456000-1776456000@arlingtonamplified.org
SUMMARY:Division Brewing: Punks Go Acoustic
DESCRIPTION:Featuring Kimberlite (Darstar)\, Joey Shortwave (Shortwaves)\, Ben McCracken (From Parts Unknown)\, and Evan Fee (Superhero/Super villain). Free show!
URL:https://arlingtonamplified.org/event/division-brewing-punks-go-acoustic/
LOCATION:Division Brewing\, 506 E Main St.\, Arlington\, Texas
ATTACH;FMTTYPE=image/png:https://arlingtonamplified.org/wp-content/uploads/2026/04/Screenshot-2026-04-14-at-2.12.55-PM.png
END:VEVENT
BEGIN:VEVENT
DTSTART;TZID=UTC:20260417T200000
DTEND;TZID=UTC:20260417T200000
DTSTAMP:20260419T205501
CREATED:20260416T210612Z
LAST-MODIFIED:20260416T210612Z
UID:5535-1776456000-1776456000@arlingtonamplified.org
SUMMARY:Grease Monkey: Don Pendley
DESCRIPTION:Live music\, good food\, and cold drinks at Grease Monkey this Friday!
URL:https://arlingtonamplified.org/event/grease-monkey-don-pendley-8/
LOCATION:Grease Monkey Burgers\, 200 N Mesquite St #103\, Arlington\, Texas\, 76011
ATTACH;FMTTYPE=image/jpeg:https://arlingtonamplified.org/wp-content/uploads/2025/07/image-26.jpeg
END:VEVENT
BEGIN:VEVENT
DTSTART;TZID=UTC:20260417T200000
DTEND;TZID=UTC:20260417T200000
DTSTAMP:20260419T205501
CREATED:20260416T214531Z
LAST-MODIFIED:20260416T214531Z
UID:5559-1776456000-1776456000@arlingtonamplified.org
SUMMARY:UTA Texas Hall: Spring Fest
DESCRIPTION:Featuring Coco Jones\, Lyn Lapid\, and Jack Freeman!
URL:https://arlingtonamplified.org/event/uta-texas-hall-spring-fest/
LOCATION:UTA Texas Hall\, 701 W Nedderman Dr\, Arlington\, TX\, 76010
ATTACH;FMTTYPE=image/png:https://arlingtonamplified.org/wp-content/uploads/2026/04/Screenshot-2026-04-16-at-4.43.43-PM.png
END:VEVENT
BEGIN:VEVENT
DTSTART;TZID=UTC:20260417T203000
DTEND;TZID=UTC:20260417T203000
DTSTAMP:20260419T205501
CREATED:20260226T190824Z
LAST-MODIFIED:20260316T153141Z
UID:4883-1776457800-1776457800@arlingtonamplified.org
SUMMARY:Texas Live!: Sajjan
DESCRIPTION:International artist Sajjan hits the stage at Arlington Backyard! Find more info and tickets here!
URL:https://arlingtonamplified.org/event/texas-live-sajjan/
LOCATION:Texas Live!\, 1650 E Randol Mill Rd\, Arlington\, TX\, 76011
ATTACH;FMTTYPE=image/png:https://arlingtonamplified.org/wp-content/uploads/2026/02/Screenshot-2026-02-26-at-1.07.00-PM.png
END:VEVENT
BEGIN:VEVENT
DTSTART;TZID=UTC:20260417T210000
DTEND;TZID=UTC:20260417T210000
DTSTAMP:20260419T205501
CREATED:20260409T185401Z
LAST-MODIFIED:20260409T185401Z
UID:5461-1776459600-1776459600@arlingtonamplified.org
SUMMARY:HWY Bar: Clever girl
DESCRIPTION:Live music every weekend at HWY! Learn more about upcoming artists here!
URL:https://arlingtonamplified.org/event/hwy-bar-clever-girl-2/
LOCATION:HWY Bar\, 5930 W Interstate 20 #218\, Arlington\, TX\, 76017
ATTACH;FMTTYPE=image/png:https://arlingtonamplified.org/wp-content/uploads/2026/01/images.png
END:VEVENT
BEGIN:VEVENT
DTSTART;TZID=UTC:20260417T210000
DTEND;TZID=UTC:20260417T230000
DTSTAMP:20260419T205501
CREATED:20260407T154913Z
LAST-MODIFIED:20260407T154913Z
UID:5394-1776459600-1776466800@arlingtonamplified.org
SUMMARY:Troy's: Retro Collective
DESCRIPTION:Find more information about upcoming Troy’s artists here!
URL:https://arlingtonamplified.org/event/troys-retro-collective/
LOCATION:Troy’s\, 1650 E Randol Mill Rd STE 100\, Arlington\, TX\, 76011
ATTACH;FMTTYPE=image/jpeg:https://arlingtonamplified.org/wp-content/uploads/2025/12/Retro-Collective.jpeg
END:VEVENT
BEGIN:VEVENT
DTSTART;TZID=UTC:20260417T220000
DTEND;TZID=UTC:20260417T220000
DTSTAMP:20260419T205501
CREATED:20260416T212109Z
LAST-MODIFIED:20260416T212411Z
UID:5546-1776463200-1776463200@arlingtonamplified.org
SUMMARY:Rio Bravo Arlington: Tropical de Bravo ft La Sonora con Explosiòn
DESCRIPTION:¡Ven a cantar\, bailar y gozar como se debe aquí mismo en RioBravoArlington!
URL:https://arlingtonamplified.org/event/rio-bravo-arlington-tropical-de-bravo-ft-la-sonora-con-explosion/
LOCATION:Rio Bravo Arlington\, 2208 New York Ave\, Arlington\, TX\, 76010\, United States
ATTACH;FMTTYPE=image/png:https://arlingtonamplified.org/wp-content/uploads/2026/04/Screenshot-2026-04-16-at-4.18.49-PM.png
END:VEVENT
BEGIN:VEVENT
DTSTART;TZID=UTC:20260418T130000
DTEND;TZID=UTC:20260418T160000
DTSTAMP:20260419T205501
CREATED:20260325T154623Z
LAST-MODIFIED:20260325T154623Z
UID:5160-1776517200-1776528000@arlingtonamplified.org
SUMMARY:Hankins: McKinney
DESCRIPTION:Find more information on this artist and upcoming shows here!
URL:https://arlingtonamplified.org/event/hankins-mckinney/
LOCATION:Tupp’s Brewery\, 402 E Louisiana St.\, McKinney\, Texas
ATTACH;FMTTYPE=image/jpeg:https://arlingtonamplified.org/wp-content/uploads/2025/07/IMG_1232.jpg
END:VEVENT
BEGIN:VEVENT
DTSTART;TZID=UTC:20260418T170000
DTEND;TZID=UTC:20260418T200000
DTSTAMP:20260419T205501
CREATED:20260416T180150Z
LAST-MODIFIED:20260416T180150Z
UID:5533-1776531600-1776542400@arlingtonamplified.org
SUMMARY:Hurtado BBQ: Rusty Rayborn
DESCRIPTION:Live music\, cold drinks\, and great BBQ at Hurtado BBQ/Rodeo and Rye!
URL:https://arlingtonamplified.org/event/hurtado-bbq-rusty-rayborn/
LOCATION:Hurtado BBQ\, 205 E Front St.\, Arlington\, Texas
ATTACH;FMTTYPE=image/jpeg:https://arlingtonamplified.org/wp-content/uploads/2025/09/Hurtado-Exterior.jpg
END:VEVENT
BEGIN:VEVENT
DTSTART;TZID=UTC:20260418T190000
DTEND;TZID=UTC:20260418T190000
DTSTAMP:20260419T205501
CREATED:20260414T192213Z
LAST-MODIFIED:20260414T192213Z
UID:5491-1776538800-1776538800@arlingtonamplified.org
SUMMARY:Growl: Various Artists
DESCRIPTION:7:00 PM – Denver Williams \n8:00 PM – Sarah Savage & Band \n9:00 PM – Black Market Garden \n10:00 PM – Henry the Archer
URL:https://arlingtonamplified.org/event/growl-various-artists-27/
LOCATION:Growl Records\, 509 E Abram St\, Arlington\, TX\, 76010\, United States
ATTACH;FMTTYPE=image/png:https://arlingtonamplified.org/wp-content/uploads/2026/04/Screenshot-2026-04-14-at-2.19.25-PM.png
END:VEVENT
BEGIN:VEVENT
DTSTART;TZID=UTC:20260418T190000
DTEND;TZID=UTC:20260418T220000
DTSTAMP:20260419T205501
CREATED:20260324T192534Z
LAST-MODIFIED:20260324T192534Z
UID:5133-1776538800-1776549600@arlingtonamplified.org
SUMMARY:Hearsay: Max and Landon
DESCRIPTION:The Max and Landon Band plays Classics variety of Rock\, Country\, Blues. Find more info here!
URL:https://arlingtonamplified.org/event/hearsay-max-and-landon/
LOCATION:Hearsay Arlington\, 1711 E Randol Mill Rd.\, Arlington\, TX\, 76011\, United States
ATTACH;FMTTYPE=image/jpeg:https://arlingtonamplified.org/wp-content/uploads/2026/03/image-10.jpeg
END:VEVENT
BEGIN:VEVENT
DTSTART;TZID=UTC:20260418T193000
DTEND;TZID=UTC:20260418T193000
DTSTAMP:20260419T205501
CREATED:20260407T150743Z
LAST-MODIFIED:20260407T150743Z
UID:5334-1776540600-1776540600@arlingtonamplified.org
SUMMARY:Arlington Music Hall: The Elton Johns
DESCRIPTION:The Elton Johns bring the ultimate Elton John tribute to Arlington! Find more info and tickets here!
URL:https://arlingtonamplified.org/event/arlington-music-hall-the-elton-johns/
LOCATION:Arlington Music Hall\, 224 N Center St\, Arlington\, TX\, 76011
ATTACH;FMTTYPE=image/jpeg:https://arlingtonamplified.org/wp-content/uploads/2026/04/image-1.jpeg
END:VEVENT
BEGIN:VEVENT
DTSTART;TZID=UTC:20260418T200000
DTEND;TZID=UTC:20260418T200000
DTSTAMP:20260419T205501
CREATED:20260108T164826Z
LAST-MODIFIED:20260310T160820Z
UID:4416-1776542400-1776542400@arlingtonamplified.org
SUMMARY:Globe Life Field: Bruno Mars
DESCRIPTION:Bruno Mars is bringing The Romantic Tour to Arlington! Find general info and ticket information here!
URL:https://arlingtonamplified.org/event/globe-life-field-bruno-mars/
LOCATION:Globe Life Field\, 734 Stadium Dr\, Arlington\, TX\, 76011\, United States
ATTACH;FMTTYPE=image/png:https://arlingtonamplified.org/wp-content/uploads/2026/01/Screenshot-2026-01-08-at-10.46.56-AM.png
END:VEVENT
BEGIN:VEVENT
DTSTART;TZID=UTC:20260418T200000
DTEND;TZID=UTC:20260418T200000
DTSTAMP:20260419T205501
CREATED:20260416T211146Z
LAST-MODIFIED:20260416T211146Z
UID:5537-1776542400-1776542400@arlingtonamplified.org
SUMMARY:Heavy Metal Hall of Fame: ASKA ft. Blonde Sabbath & Metal Burn Creepshow
DESCRIPTION:Come see ASKA live with some very special guests this weekend!
URL:https://arlingtonamplified.org/event/heavy-metal-hall-of-fame-aska-ft-blonde-sabbath-metal-burn-creepshow/
LOCATION:Heavy Metal Hall of Fame\, 120A East Abram Street\, Arlington\, TX\, 76010\, United States
ATTACH;FMTTYPE=image/png:https://arlingtonamplified.org/wp-content/uploads/2026/04/Screenshot-2026-04-16-at-4.07.30-PM.png
END:VEVENT
BEGIN:VEVENT
DTSTART;TZID=UTC:20260418T210000
DTEND;TZID=UTC:20260418T210000
DTSTAMP:20260419T205501
CREATED:20260409T185501Z
LAST-MODIFIED:20260409T185501Z
UID:5463-1776546000-1776546000@arlingtonamplified.org
SUMMARY:HWY Bar: Jason Cartmell Band
DESCRIPTION:Live music every weekend at HWY! Learn more about upcoming artists here!
URL:https://arlingtonamplified.org/event/hwy-bar-jason-cartmell-band-2/
LOCATION:HWY Bar\, 5930 W Interstate 20 #218\, Arlington\, TX\, 76017
ATTACH;FMTTYPE=image/png:https://arlingtonamplified.org/wp-content/uploads/2025/10/f870c4de-e125-4ad4-8fd7-3d5857cd578b.jpg.png
END:VEVENT
BEGIN:VEVENT
DTSTART;TZID=UTC:20260418T210000
DTEND;TZID=UTC:20260418T210000
DTSTAMP:20260419T205501
CREATED:20260416T175753Z
LAST-MODIFIED:20260416T175753Z
UID:5527-1776546000-1776546000@arlingtonamplified.org
SUMMARY:Caves Lounge: Various Artists
DESCRIPTION:Featuring WOHW\, Byegones\, 10Four10\, & Tomorrow Fades Away!
URL:https://arlingtonamplified.org/event/caves-lounge-various-artists-5/
LOCATION:Caves Lounge\, 900 W Division St\, Arlington\, TX\, 76012\, United States
ATTACH;FMTTYPE=image/png:https://arlingtonamplified.org/wp-content/uploads/2026/04/Screenshot-2026-04-16-at-12.55.02-PM-e1776362251125.png
END:VEVENT
BEGIN:VEVENT
DTSTART;TZID=UTC:20260418T210000
DTEND;TZID=UTC:20260418T210000
DTSTAMP:20260419T205501
CREATED:20260416T214154Z
LAST-MODIFIED:20260416T214154Z
UID:5557-1776546000-1776546000@arlingtonamplified.org
SUMMARY:Hearsay: Max and Landon
DESCRIPTION:Enjoy the Max and Landon Band’s blend of classics\, Rock\, Country\, & Blues at this Bruno Mars afterparty! \nFind more info here!
URL:https://arlingtonamplified.org/event/hearsay-max-and-landon-2/
LOCATION:Hearsay Arlington\, 1711 E Randol Mill Rd.\, Arlington\, TX\, 76011\, United States
ATTACH;FMTTYPE=image/jpeg:https://arlingtonamplified.org/wp-content/uploads/2025/07/IMG_0803.jpg
END:VEVENT
BEGIN:VEVENT
DTSTART;TZID=UTC:20260418T210000
DTEND;TZID=UTC:20260418T230000
DTSTAMP:20260419T205501
CREATED:20260407T155023Z
LAST-MODIFIED:20260407T155023Z
UID:5396-1776546000-1776553200@arlingtonamplified.org
SUMMARY:Troy's: The Dale Gibbs Band
DESCRIPTION:Find more information about upcoming Troy’s artists here!
URL:https://arlingtonamplified.org/event/troys-the-dale-gibbs-band/
LOCATION:Troy’s\, 1650 E Randol Mill Rd STE 100\, Arlington\, TX\, 76011
ATTACH;FMTTYPE=image/jpeg:https://arlingtonamplified.org/wp-content/uploads/2026/02/475980335_1087796160025733_8946217289584237526_n.jpg
END:VEVENT
BEGIN:VEVENT
DTSTART;TZID=UTC:20260418T220000
DTEND;TZID=UTC:20260418T220000
DTSTAMP:20260419T205501
CREATED:20260416T212337Z
LAST-MODIFIED:20260416T212337Z
UID:5549-1776549600-1776549600@arlingtonamplified.org
SUMMARY:Rio Bravo Arlington: Various Artists
DESCRIPTION:👉Polo Urias y su Maquina Norteña\n👉Los Jilgueros del Arroyo\n👉Marineros del Norte\n👉Adolfo Urias y su Lobo Norteño
URL:https://arlingtonamplified.org/event/rio-bravo-arlington-various-artists/
LOCATION:Rio Bravo Arlington\, 2208 New York Ave\, Arlington\, TX\, 76010\, United States
ATTACH;FMTTYPE=image/png:https://arlingtonamplified.org/wp-content/uploads/2026/04/Screenshot-2026-04-16-at-4.21.19-PM.png
END:VEVENT
BEGIN:VEVENT
DTSTART;TZID=UTC:20260419T140000
DTEND;TZID=UTC:20260419T180000
DTSTAMP:20260419T205501
CREATED:20260416T211352Z
LAST-MODIFIED:20260416T211352Z
UID:5540-1776607200-1776621600@arlingtonamplified.org
SUMMARY:Tanstaafl Pub: Bluegrass Jam
DESCRIPTION:Celebrate Tanstaafl’s 50th anniversary with shenanigans every day from April 19th-26th! This Sunday is Bluegrass Jam!
URL:https://arlingtonamplified.org/event/tanstaafl-pub-bluegrass-jam/
LOCATION:Tanstaafl Pub\, 409 N Bowen Rd\, Arlington\, TX\, 76012
ATTACH;FMTTYPE=image/png:https://arlingtonamplified.org/wp-content/uploads/2026/04/Screenshot-2026-04-16-at-4.11.28-PM.png
END:VEVENT
BEGIN:VEVENT
DTSTART;TZID=UTC:20260419T170000
DTEND;TZID=UTC:20260419T190000
DTSTAMP:20260419T205501
CREATED:20260407T155123Z
LAST-MODIFIED:20260407T155123Z
UID:5398-1776618000-1776625200@arlingtonamplified.org
SUMMARY:Troy's: Dave Christen Duo
DESCRIPTION:Find more information about upcoming Troy’s artists here!
URL:https://arlingtonamplified.org/event/troys-dave-christen-duo-2/
LOCATION:Troy’s\, 1650 E Randol Mill Rd STE 100\, Arlington\, TX\, 76011
ATTACH;FMTTYPE=image/jpeg:https://arlingtonamplified.org/wp-content/uploads/2026/02/475980335_1087796160025733_8946217289584237526_n.jpg
END:VEVENT
END:VCALENDAR