BEGIN:VCALENDAR
VERSION:2.0
PRODID:-//Arlington Amplified - ECPv6.15.20//NONSGML v1.0//EN
CALSCALE:GREGORIAN
METHOD:PUBLISH
X-WR-CALNAME:Arlington Amplified
X-ORIGINAL-URL:https://arlingtonamplified.org
X-WR-CALDESC:Events for Arlington Amplified
REFRESH-INTERVAL;VALUE=DURATION:PT1H
X-Robots-Tag:noindex
X-PUBLISHED-TTL:PT1H
BEGIN:VTIMEZONE
TZID:UTC
BEGIN:STANDARD
TZOFFSETFROM:+0000
TZOFFSETTO:+0000
TZNAME:UTC
DTSTART:20250101T000000
END:STANDARD
END:VTIMEZONE
BEGIN:VEVENT
DTSTART;TZID=UTC:20260424T140000
DTEND;TZID=UTC:20260424T140000
DTSTAMP:20260424T011906
CREATED:20251224T232412Z
LAST-MODIFIED:20251224T232412Z
UID:4248-1777039200-1777039200@arlingtonamplified.org
SUMMARY:AT&T: Lone Star Smokeout
DESCRIPTION:The second annual Lone Star Smokeout is returning to Arlington for a parking lot party at AT&T Stadium! Find more info and tickets here!
URL:https://arlingtonamplified.org/event/att-lone-star-smokeout/
LOCATION:AT&T Stadium\, 1 AT&T Way\, Arlington\, TX\, 76011\, United States
ATTACH;FMTTYPE=image/jpeg:https://arlingtonamplified.org/wp-content/uploads/2025/12/ATT-Web-700x525-100-1.jpg
END:VEVENT
BEGIN:VEVENT
DTSTART;TZID=UTC:20260424T170000
DTEND;TZID=UTC:20260424T190000
DTSTAMP:20260424T011906
CREATED:20260407T155946Z
LAST-MODIFIED:20260407T155946Z
UID:5413-1777050000-1777057200@arlingtonamplified.org
SUMMARY:Troy's: Savage Hurley
DESCRIPTION:Find more information about upcoming Troy’s artists here!
URL:https://arlingtonamplified.org/event/troys-savage-hurley-2/
LOCATION:Troy’s\, 1650 E Randol Mill Rd STE 100\, Arlington\, TX\, 76011
ATTACH;FMTTYPE=image/jpeg:https://arlingtonamplified.org/wp-content/uploads/2026/02/475980335_1087796160025733_8946217289584237526_n.jpg
END:VEVENT
BEGIN:VEVENT
DTSTART;TZID=UTC:20260424T190000
DTEND;TZID=UTC:20260424T210000
DTSTAMP:20260424T011906
CREATED:20260404T212206Z
LAST-MODIFIED:20260407T144932Z
UID:5286-1777057200-1777064400@arlingtonamplified.org
SUMMARY:F6 Art Lounge: Guthrie and Sibley
DESCRIPTION:Local Blues Legends playing live in downtown Arlington
URL:https://arlingtonamplified.org/event/f6-art-lounge-guthrie-and-sibley/
LOCATION:TX
ATTACH;FMTTYPE=image/png:https://arlingtonamplified.org/wp-content/uploads/2026/04/Guthrie-Sibley.png
END:VEVENT
BEGIN:VEVENT
DTSTART;TZID=UTC:20260424T190000
DTEND;TZID=UTC:20260424T213000
DTSTAMP:20260424T011906
CREATED:20260421T110938Z
LAST-MODIFIED:20260423T172541Z
UID:5565-1777057200-1777066200@arlingtonamplified.org
SUMMARY:J. Gilligan's: Jimmy Pitstick & 3 Chords Down
DESCRIPTION:Enjoy some free Folk\, Country\, Rock\, and Blues along with Gilligan’s famous Irish nachos!
URL:https://arlingtonamplified.org/event/j-gilligans-jimmy-pitstick-3-chords-down/
LOCATION:J. Gilligan’s\, 400 E Abram St\, Arlington\, TX\, 76010
ATTACH;FMTTYPE=image/png:https://arlingtonamplified.org/wp-content/uploads/2026/04/3-Chords-Down-April-24.png
END:VEVENT
BEGIN:VEVENT
DTSTART;TZID=UTC:20260424T193000
DTEND;TZID=UTC:20260424T193000
DTSTAMP:20260424T011906
CREATED:20260316T154613Z
LAST-MODIFIED:20260416T172439Z
UID:5051-1777059000-1777059000@arlingtonamplified.org
SUMMARY:Levitt Pavilion Arlington: Uncle Lucius ft. Jordan Nix
DESCRIPTION:7:10 PM – Levitt Youth Spotlight presented by Texas Trust Credit Union \n7:30 PM – Jordan Nix \n8:30 PM – Uncle Lucius  \nFind more information here!
URL:https://arlingtonamplified.org/event/levitt-pavilion-arlington-uncle-lucius-w-tba/
LOCATION:Levitt Pavilion\, 100 W. Abram St.\, Arlington\, TX\, 76010\, United States
ATTACH;FMTTYPE=image/png:https://arlingtonamplified.org/wp-content/uploads/2026/03/image-1.png
END:VEVENT
BEGIN:VEVENT
DTSTART;TZID=UTC:20260424T203000
DTEND;TZID=UTC:20260424T203000
DTSTAMP:20260424T011906
CREATED:20260423T181017Z
LAST-MODIFIED:20260423T181017Z
UID:5590-1777062600-1777062600@arlingtonamplified.org
SUMMARY:Truth Vinyl: Savoy Swing
DESCRIPTION:Enjoy a free show by Savoy Swing after taking a swing dance class starting at 6:00 PM! All at Truth Vinyl!
URL:https://arlingtonamplified.org/event/truth-vinyl-savoy-swing-3/
LOCATION:Truth Serum Showroom\, 300 E. Division St\, Arlington\, TX\, 76011\, United States
ATTACH;FMTTYPE=image/png:https://arlingtonamplified.org/wp-content/uploads/2026/04/Screenshot-2026-04-23-at-1.08.13-PM.png
END:VEVENT
BEGIN:VEVENT
DTSTART;TZID=UTC:20260424T210000
DTEND;TZID=UTC:20260424T210000
DTSTAMP:20260424T011906
CREATED:20260409T185604Z
LAST-MODIFIED:20260409T185604Z
UID:5465-1777064400-1777064400@arlingtonamplified.org
SUMMARY:HWY Bar: Don Pendley
DESCRIPTION:Live music every weekend at HWY! Learn more about upcoming artists here!
URL:https://arlingtonamplified.org/event/hwy-bar-don-pendley-6/
LOCATION:HWY Bar\, 5930 W Interstate 20 #218\, Arlington\, TX\, 76017
ATTACH;FMTTYPE=image/jpeg:https://arlingtonamplified.org/wp-content/uploads/2025/06/aqgpalxsqeigpgqcpqtm.jpg
END:VEVENT
BEGIN:VEVENT
DTSTART;TZID=UTC:20260424T210000
DTEND;TZID=UTC:20260424T230000
DTSTAMP:20260424T011906
CREATED:20260407T160111Z
LAST-MODIFIED:20260407T160111Z
UID:5415-1777064400-1777071600@arlingtonamplified.org
SUMMARY:Troy's: Grant Gillispie & The Morning Shakes
DESCRIPTION:Find more information about upcoming Troy’s artists here!
URL:https://arlingtonamplified.org/event/troys-grant-gillispie-the-morning-shakes/
LOCATION:Troy’s\, 1650 E Randol Mill Rd STE 100\, Arlington\, TX\, 76011
ATTACH;FMTTYPE=image/jpeg:https://arlingtonamplified.org/wp-content/uploads/2026/02/475980335_1087796160025733_8946217289584237526_n.jpg
END:VEVENT
END:VCALENDAR