BEGIN:VCALENDAR
VERSION:2.0
PRODID:-//Arlington Amplified - ECPv6.15.20//NONSGML v1.0//EN
CALSCALE:GREGORIAN
METHOD:PUBLISH
X-WR-CALNAME:Arlington Amplified
X-ORIGINAL-URL:https://arlingtonamplified.org
X-WR-CALDESC:Events for Arlington Amplified
REFRESH-INTERVAL;VALUE=DURATION:PT1H
X-Robots-Tag:noindex
X-PUBLISHED-TTL:PT1H
BEGIN:VTIMEZONE
TZID:UTC
BEGIN:STANDARD
TZOFFSETFROM:+0000
TZOFFSETTO:+0000
TZNAME:UTC
DTSTART:20250101T000000
END:STANDARD
END:VTIMEZONE
BEGIN:VEVENT
DTSTART;TZID=UTC:20260423T170000
DTEND;TZID=UTC:20260423T190000
DTSTAMP:20260423T012529
CREATED:20260407T155723Z
LAST-MODIFIED:20260407T155723Z
UID:5409-1776963600-1776970800@arlingtonamplified.org
SUMMARY:Troy's: Jon McDaniel
DESCRIPTION:Find more information about upcoming Troy’s artists here!
URL:https://arlingtonamplified.org/event/troys-jon-mcdaniel/
LOCATION:Troy’s\, 1650 E Randol Mill Rd STE 100\, Arlington\, TX\, 76011
ATTACH;FMTTYPE=image/jpeg:https://arlingtonamplified.org/wp-content/uploads/2026/02/475980335_1087796160025733_8946217289584237526_n.jpg
END:VEVENT
BEGIN:VEVENT
DTSTART;TZID=UTC:20260423T200000
DTEND;TZID=UTC:20260423T220000
DTSTAMP:20260423T012529
CREATED:20260407T155833Z
LAST-MODIFIED:20260407T155833Z
UID:5411-1776974400-1776981600@arlingtonamplified.org
SUMMARY:Troy's: Mountain Natives
DESCRIPTION:Find more information about upcoming Troy’s artists here!
URL:https://arlingtonamplified.org/event/troys-mountain-natives/
LOCATION:Troy’s\, 1650 E Randol Mill Rd STE 100\, Arlington\, TX\, 76011
ATTACH;FMTTYPE=image/jpeg:https://arlingtonamplified.org/wp-content/uploads/2026/02/475980335_1087796160025733_8946217289584237526_n.jpg
END:VEVENT
END:VCALENDAR